{"text_format":"3","workbook":"xlsx","n_sheets":3,"sheets":["Sheet1","Sheet2","Sheet3"],"not_rendered":{"external_links":2,"defined_names":1},"read":"whole","date_system":"1900"}

{"sheet":"Sheet1","index":0,"n_rows":78,"n_cols":13,"rows_kept":78,"merged":[[75,0,75,1]]}
["序号","资产编号","原值","净值","残值","设备编号","库存号","固定资产（是/否）","使用年限","已使用年限","资产名称","生产线-使用岗位-摆放位置","备注"]
[1,1101060,9800,{"$f":"VLOOKUP($B2,[1]Sheet1!$A:$Q,16,FALSE)","v":490},{"$f":"VLOOKUP($B2,[1]Sheet1!$A:$Q,17,FALSE)","v":490},10025090,"ZJ-02-047","是",{"$f":"VLOOKUP(G2,[2]总台账!$E:$Q,13,0)","v":"2009-10-27"},16,"不锈钢316L配液罐","报废库"]
[2,1101059,9800,{"$f":"VLOOKUP(B3,[1]Sheet1!$A:$Q,16,FALSE)","v":490},{"$f":"VLOOKUP($B3,[1]Sheet1!$A:$Q,17,FALSE)","v":490},10025091,"ZJ-02-048","是",{"$f":"VLOOKUP(G3,[2]总台账!$E:$Q,13,0)","v":"2009-10-27"},15,"不锈钢316L配液罐","报废库"]
[3,1100229,496948.85,{"$f":"VLOOKUP(B4,[1]Sheet1!$A:$Q,16,FALSE)","v":24847},{"$f":"VLOOKUP($B4,[1]Sheet1!$A:$Q,17,FALSE)","v":24847},10024677,"ZJ-02-201","是",{"$f":"VLOOKUP(G4,[2]总台账!$E:$Q,13,0)","v":"2010-06-29"},15,"软膏自动包装机","报废库"]
[4,1100237,1458,{"$f":"VLOOKUP(B5,[1]Sheet1!$A:$Q,16,FALSE)","v":72.9},{"$f":"VLOOKUP($B5,[1]Sheet1!$A:$Q,17,FALSE)","v":72.9},10024687,"ZJ-02-211","是",{"$f":"VLOOKUP(G5,[2]总台账!$E:$Q,13,0)","v":"2010-07-05"},15,"美的洗衣机","报废库"]
[5,1100899,40659.44,{"$f":"VLOOKUP(B6,[1]Sheet1!$A:$Q,16,FALSE)","v":2032},{"$f":"VLOOKUP($B6,[1]Sheet1!$A:$Q,17,FALSE)","v":2032},10024780,"ZJ-01-005","是",{"$f":"VLOOKUP(G6,[2]总台账!$E:$Q,13,0)","v":"2011-03-31"},14,"凝结水回收器","报废库"]
[6,1100147,2991.45,{"$f":"VLOOKUP(B7,[1]Sheet1!$A:$Q,16,FALSE)","v":149.5},{"$f":"VLOOKUP($B7,[1]Sheet1!$A:$Q,17,FALSE)","v":149.5},10024656,"ZJ-01-025","是",{"$f":"VLOOKUP(G7,[2]总台账!$E:$Q,13,0)","v":"2010-04-26"},15,"臭氧发生器","报废库"]
[7,1100629,4957.27,{"$f":"VLOOKUP(B8,[1]Sheet1!$A:$Q,16,FALSE)","v":247.8},{"$f":"VLOOKUP($B8,[1]Sheet1!$A:$Q,17,FALSE)","v":247.8},10025062,"ZJ-01-809","是",{"$f":"VLOOKUP(G8,[2]总台账!$E:$Q,13,0)","v":"2004-08-10"},20,"储气罐","报废库"]
[8,1100358,6410.26,{"$f":"VLOOKUP(B9,[1]Sheet1!$A:$Q,16,FALSE)","v":320.5},{"$f":"VLOOKUP($B9,[1]Sheet1!$A:$Q,17,FALSE)","v":320.5},10025458,"YY-08-02-001(G)","是",{"$f":"VLOOKUP(G9,[2]总台账!$E:$Q,13,0)","v":"2014-10-29"},10,"全自动洗衣机","2楼闲置库"]
[9,{"$nulls":4},10026767,"YL-02-006","否",null,10,"海尔低温冷冻柜","2楼闲置库"]
[10,1100697,431600,{"$f":"VLOOKUP(B11,[1]Sheet1!$A:$Q,16,FALSE)","v":21580},{"$f":"VLOOKUP($B11,[1]Sheet1!$A:$Q,17,FALSE)","v":21580},10024518,"YL-02-063","是",{"$f":"VLOOKUP(G11,[2]总台账!$E:$Q,13,0)","v":"2004-12-10"},20,"制备液相","2楼报废库"]
[11,1100772,90560.34,{"$f":"VLOOKUP(B12,[1]Sheet1!$A:$Q,16,FALSE)","v":4528},{"$f":"VLOOKUP($B12,[1]Sheet1!$A:$Q,17,FALSE)","v":4528},10024771,"YL-02-070","是",{"$f":"VLOOKUP(G12,[2]总台账!$E:$Q,13,0)","v":"2011-03-31"},16,"脉动真空灭菌器","报废库"]
[12,1100054,111111.12,{"$f":"VLOOKUP(B13,[1]Sheet1!$A:$Q,16,FALSE)","v":5555},{"$f":"VLOOKUP($B13,[1]Sheet1!$A:$Q,17,FALSE)","v":5555},10024702,"YL-02-071","是",{"$f":"VLOOKUP(G13,[2]总台账!$E:$Q,13,0)","v":"2010-09-19"},14,"净化热风循环烘箱","报废库"]
[13,1100211,69733.33,{"$f":"VLOOKUP(B14,[1]Sheet1!$A:$Q,16,FALSE)","v":3486},{"$f":"VLOOKUP($B14,[1]Sheet1!$A:$Q,17,FALSE)","v":3486},10025172,"ZD-01-001","是",{"$f":"VLOOKUP(G14,[2]总台账!$E:$Q,13,0)","v":"2010-06-29"},14,"净化组合空调机组","报废库"]
[14,1100961,5726.5,{"$f":"VLOOKUP(B15,[1]Sheet1!$A:$Q,16,FALSE)","v":286.3},{"$f":"VLOOKUP($B15,[1]Sheet1!$A:$Q,17,FALSE)","v":286.3},10024572,"DL-01-808","是",{"$f":"VLOOKUP(G15,[2]总台账!$E:$Q,13,0)","v":"2008-11-27"},16,"COD速测仪","2楼报废库"]
[15,1100105,30341.88,{"$f":"VLOOKUP(B16,[1]Sheet1!$A:$Q,16,FALSE)","v":1517},{"$f":"VLOOKUP($B16,[1]Sheet1!$A:$Q,17,FALSE)","v":1517},10025246,"DL-03-01-002(G)","是",{"$f":"VLOOKUP(G16,[2]总台账!$E:$Q,13,0)","v":"2014-07-11"},10,"环保数据采集仪","2楼闲置库"]
[16,{"$nulls":4},10026856,"YY-02-010","否",null,null,"洗衣机","报废库"]
[17,1101140,10940.17,{"$f":"VLOOKUP(B18,[1]Sheet1!$A:$Q,16,FALSE)","v":547},{"$f":"VLOOKUP($B18,[1]Sheet1!$A:$Q,17,FALSE)","v":547},10024947,"ZH-01-289","是",{"$f":"VLOOKUP(G18,[2]总台账!$E:$Q,13,0)","v":"2012-06-20"},12,"火焰光度计","报废库"]
[18,1101382,425,{"$f":"VLOOKUP(B19,[1]Sheet1!$A:$Q,16,FALSE)","v":425},{"$f":"VLOOKUP($B19,[1]Sheet1!$A:$Q,17,FALSE)","v":0},10040026,"KY-02-02-026(G)","是",{"$f":"VLOOKUP(G19,[2]总台账!$E:$Q,13,0)","v":"2022-01-28"},"研究院转来的设备已过使用年限，此时间是生物购买后计时日期。","全温震荡仪","报废库"]
[19,1101386,1400,{"$f":"VLOOKUP(B20,[1]Sheet1!$A:$Q,16,FALSE)","v":1400},{"$f":"VLOOKUP($B20,[1]Sheet1!$A:$Q,17,FALSE)","v":0},10040030,"KY-08-02-011(G)","是",{"$f":"VLOOKUP(G20,[2]总台账!$E:$Q,13,0)","v":"2022-01-28"},"研究院转来的设备已过使用年限，此时间是生物购买后计时日期。","层析冷柜","2楼报废库"]
[20,1100857,3555.56,{"$f":"VLOOKUP(B21,[1]Sheet1!$A:$Q,16,FALSE)","v":177.7},{"$f":"VLOOKUP($B21,[1]Sheet1!$A:$Q,17,FALSE)","v":177.7},10025044,"ZH-01-228","是",{"$f":"VLOOKUP(G21,[2]总台账!$E:$Q,13,0)","v":"2011-09-26"},13,"春兰空调","2楼报废库"]
[21,1100830,39316.24,{"$f":"VLOOKUP(B22,[1]Sheet1!$A:$Q,16,FALSE)","v":1965},{"$f":"VLOOKUP($B22,[1]Sheet1!$A:$Q,17,FALSE)","v":1965},10024813,"ZK-01-001","是",{"$f":"VLOOKUP(G22,[2]总台账!$E:$Q,13,0)","v":"2011-08-30"},13,"药品稳定试验箱","报废库"]
[22,1100422,63675.21,{"$f":"VLOOKUP(B23,[1]Sheet1!$A:$Q,16,FALSE)","v":3183},{"$f":"VLOOKUP($B23,[1]Sheet1!$A:$Q,17,FALSE)","v":3183},10025578,"ZK-02-01-001(G)","是",{"$f":"VLOOKUP(G23,[2]总台账!$E:$Q,13,0)","v":"2014-10-29"},11,"稳定性试验箱","报废库"]
[23,1100421,63675.21,{"$f":"VLOOKUP(B24,[1]Sheet1!$A:$Q,16,FALSE)","v":3183},{"$f":"VLOOKUP($B24,[1]Sheet1!$A:$Q,17,FALSE)","v":3183},10025579,"ZK-02-01-002(G)","是",{"$f":"VLOOKUP(G24,[2]总台账!$E:$Q,13,0)","v":"2014-10-29"},11,"稳定性试验箱","报废库"]
[24,1101000,2051.28,{"$f":"VLOOKUP(B25,[1]Sheet1!$A:$Q,16,FALSE)","v":102.5},{"$f":"VLOOKUP($B25,[1]Sheet1!$A:$Q,17,FALSE)","v":102.5},null,"ST-01-026","是",{"$f":"VLOOKUP(G25,[2]总台账!$E:$Q,13,0)","v":"2009-12-01"},15,"绞切两用机","报废库"]
[25,1101006,1581.2,{"$f":"VLOOKUP(B26,[1]Sheet1!$A:$Q,16,FALSE)","v":79.06},{"$f":"VLOOKUP($B26,[1]Sheet1!$A:$Q,17,FALSE)","v":79.06},null,"ST-01-014","是",{"$f":"VLOOKUP(G26,[2]总台账!$E:$Q,13,0)","v":"2009-12-01"},15,"面条机","报废库"]
[26,1100881,8803.42,{"$f":"VLOOKUP(B27,[1]Sheet1!$A:$Q,16,FALSE)","v":440.1},{"$f":"VLOOKUP($B27,[1]Sheet1!$A:$Q,17,FALSE)","v":440.1},null,"ST-01-030","是",{"$f":"VLOOKUP(G27,[2]总台账!$E:$Q,13,0)","v":"2011-05-31"},13,"饺子自动成型机","报废库"]
[27,1100989,160683.8,{"$f":"VLOOKUP(B28,[1]Sheet1!$A:$Q,16,FALSE)","v":8034},{"$f":"VLOOKUP($B28,[1]Sheet1!$A:$Q,17,FALSE)","v":8034},10024581,"ZJ-03-091","是",{"$f":"VLOOKUP(G28,[2]总台账!$E:$Q,13,0)","v":"2008-12-25"},16,"喷码机","2楼闲置库"]
[28,1100974,15213.68,{"$f":"VLOOKUP(B29,[1]Sheet1!$A:$Q,16,FALSE)","v":760.6},{"$f":"VLOOKUP($B29,[1]Sheet1!$A:$Q,17,FALSE)","v":760.6},10024595,"GY-01-020","是",{"$f":"VLOOKUP(G29,[2]总台账!$E:$Q,13,0)","v":"2009-02-24"},16,"低温存储柜","2楼闲置库"]
[29,1100924,110256.42,5512,5512,10024605,"ZJ-02-203","是",{"$f":"VLOOKUP(G30,[2]总台账!$E:$Q,13,0)","v":"2009-04-27"},16,"透明膜包装机","报废库"]
[30,1101038,149572.58,{"$f":"VLOOKUP(B31,[1]Sheet1!$A:$Q,16,FALSE)","v":7478},{"$f":"VLOOKUP($B31,[1]Sheet1!$A:$Q,17,FALSE)","v":7478},10024640,"ZJ-03-056","是",{"$f":"VLOOKUP(G31,[2]总台账!$E:$Q,13,0)","v":"2010-01-31"},15,"激光喷码机","2楼闲置库"]
[31,1100146,2143.59,{"$f":"VLOOKUP(B32,[1]Sheet1!$A:$Q,16,FALSE)","v":107.1},{"$f":"VLOOKUP($B32,[1]Sheet1!$A:$Q,17,FALSE)","v":107.1},10024657,"XZ-01-900","是",{"$f":"VLOOKUP(G32,[2]总台账!$E:$Q,13,0)","v":"2010-04-27"},15,"立式多级泵","报废库"]
[32,1100807,106837.6,{"$f":"VLOOKUP(B33,[1]Sheet1!$A:$Q,16,FALSE)","v":5341},{"$f":"VLOOKUP($B33,[1]Sheet1!$A:$Q,17,FALSE)","v":5341},10024899,"ZJ-03-052","是",{"$f":"VLOOKUP(G33,[2]总台账!$E:$Q,13,0)","v":"2011-06-24"},14,"激光喷码机","2楼闲置库"]
[33,1101057,15213.68,{"$f":"VLOOKUP(B34,[1]Sheet1!$A:$Q,16,FALSE)","v":760.6},{"$f":"VLOOKUP($B34,[1]Sheet1!$A:$Q,17,FALSE)","v":760.6},10025092,"GY-01-049","是",{"$f":"VLOOKUP(G34,[2]总台账!$E:$Q,13,0)","v":"2009-10-27"},16,"药品冰箱","2楼闲置库"]
[34,1101056,15213.68,{"$f":"VLOOKUP(B35,[1]Sheet1!$A:$Q,16,FALSE)","v":760.6},{"$f":"VLOOKUP($B35,[1]Sheet1!$A:$Q,17,FALSE)","v":760.6},10025093,"GY-01-050","是",{"$f":"VLOOKUP(G35,[2]总台账!$E:$Q,13,0)","v":"2009-10-27"},16,"药品冰箱","2楼闲置库"]
[35,1101051,17800,{"$f":"VLOOKUP(B36,[1]Sheet1!$A:$Q,16,FALSE)","v":890},{"$f":"VLOOKUP($B36,[1]Sheet1!$A:$Q,17,FALSE)","v":890},10025094,"GY-01-017","是",{"$f":"VLOOKUP(G36,[2]总台账!$E:$Q,13,0)","v":"2009-11-27"},16,"低温冰箱","2楼闲置库"]
[36,1101050,17800,{"$f":"VLOOKUP(B37,[1]Sheet1!$A:$Q,16,FALSE)","v":890},{"$f":"VLOOKUP($B37,[1]Sheet1!$A:$Q,17,FALSE)","v":890},10025095,"GY-01-018","是",{"$f":"VLOOKUP(G37,[2]总台账!$E:$Q,13,0)","v":"2009-11-27"},16,"低温冰箱","2楼闲置库"]
[37,1100185,5811.97,{"$f":"VLOOKUP(B38,[1]Sheet1!$A:$Q,16,FALSE)","v":290.6},{"$f":"VLOOKUP($B38,[1]Sheet1!$A:$Q,17,FALSE)","v":290.6},10025126,"ZJ-01-803","是",{"$f":"VLOOKUP(G38,[2]总台账!$E:$Q,13,0)","v":"2010-04-27"},15,"立式多级泵","报废库"]
[38,1100184,5811.97,{"$f":"VLOOKUP(B39,[1]Sheet1!$A:$Q,16,FALSE)","v":290.6},{"$f":"VLOOKUP($B39,[1]Sheet1!$A:$Q,17,FALSE)","v":290.6},10025127,"ZJ-01-804","是",{"$f":"VLOOKUP(G39,[2]总台账!$E:$Q,13,0)","v":"2010-04-27"},15,"立式多级泵","报废库"]
[39,1100183,5555.56,{"$f":"VLOOKUP(B40,[1]Sheet1!$A:$Q,16,FALSE)","v":277.7},{"$f":"VLOOKUP($B40,[1]Sheet1!$A:$Q,17,FALSE)","v":277.7},10025128,"ZJ-01-805","是",{"$f":"VLOOKUP(G40,[2]总台账!$E:$Q,13,0)","v":"2010-04-27"},15,"立式多级泵","报废库"]
[40,1100121,149572.58,{"$f":"VLOOKUP(B41,[1]Sheet1!$A:$Q,16,FALSE)","v":7478},{"$f":"VLOOKUP($B41,[1]Sheet1!$A:$Q,17,FALSE)","v":7478},10025140,"ZJ-01-081","是",{"$f":"VLOOKUP(G41,[2]总台账!$E:$Q,13,0)","v":"2010-05-26"},14,"激光喷码机","2楼闲置库"]
[41,1100120,149572.58,{"$f":"VLOOKUP(B42,[1]Sheet1!$A:$Q,16,FALSE)","v":7478},{"$f":"VLOOKUP($B42,[1]Sheet1!$A:$Q,17,FALSE)","v":7478},10025141,"ZJ-03-055","是",{"$f":"VLOOKUP(G42,[2]总台账!$E:$Q,13,0)","v":"2010-05-26"},14,"激光喷码机","2楼闲置库"]
[42,1100134,35897.43,{"$f":"VLOOKUP(B43,[1]Sheet1!$A:$Q,16,FALSE)","v":1794},{"$f":"VLOOKUP($B43,[1]Sheet1!$A:$Q,17,FALSE)","v":1794},10025153,"ZJ-02-087","是",{"$f":"VLOOKUP(G43,[2]总台账!$E:$Q,13,0)","v":"2010-06-29"},14,"喷码机","2楼闲置库"]
[43,1100132,35897.43,{"$f":"VLOOKUP(B44,[1]Sheet1!$A:$Q,16,FALSE)","v":1794},{"$f":"VLOOKUP($B44,[1]Sheet1!$A:$Q,17,FALSE)","v":1794},10025155,"ZJ-02-085","是",{"$f":"VLOOKUP(G44,[2]总台账!$E:$Q,13,0)","v":"2010-06-29"},14,"喷码机","2楼闲置库"]
[44,{"$nulls":4},10026756,"GY-01-005","否",null,10,"低温冰柜","2楼闲置库"]
[45,"",{"$nulls":3},10026956,"ZJ-01-040","否",null,10,"激光喷码机","2楼闲置库"]
[46,"",{"$nulls":3},10026995,"ZJ-03-054","否",null,10,"喷码机","2楼闲置库"]
[47,1100792,180708.66,{"$f":"VLOOKUP(B48,[1]Sheet1!$A:$Q,16,FALSE)","v":9035},{"$f":"VLOOKUP($B48,[1]Sheet1!$A:$Q,17,FALSE)","v":9035},10024754,"ZJ-03-064","是",{"$f":"VLOOKUP(G48,[2]总台账!$E:$Q,13,0)","v":"2011-03-31"},14,"配剂系统","3楼肿瘤"]
[48,1100783,243956.69,{"$f":"VLOOKUP(B49,[1]Sheet1!$A:$Q,16,FALSE)","v":12197},{"$f":"VLOOKUP($B49,[1]Sheet1!$A:$Q,17,FALSE)","v":12197},10024762,"ZJ-03-012","是",{"$f":"VLOOKUP(G49,[2]总台账!$E:$Q,13,0)","v":"2011-03-31"},14,"抗生素瓶立式超声波清洗机","3楼肿瘤"]
[49,1100782,505984.26,{"$f":"VLOOKUP(B50,[1]Sheet1!$A:$Q,16,FALSE)","v":25299},{"$f":"VLOOKUP($B50,[1]Sheet1!$A:$Q,17,FALSE)","v":25299},10024763,"ZJ-03-013","是",{"$f":"VLOOKUP(G50,[2]总台账!$E:$Q,13,0)","v":"2011-03-31"},14,"隧道式灭菌干燥机","3楼肿瘤"]
[50,1100781,420147.64,{"$f":"VLOOKUP(B51,[1]Sheet1!$A:$Q,16,FALSE)","v":21007},{"$f":"VLOOKUP($B51,[1]Sheet1!$A:$Q,17,FALSE)","v":21007},10024764,"ZJ-03-018","是",{"$f":"VLOOKUP(G51,[2]总台账!$E:$Q,13,0)","v":"2011-03-31"},14,"抗生素瓶灌装加塞机","3楼肿瘤"]
[51,1100780,135531.5,{"$f":"VLOOKUP(B52,[1]Sheet1!$A:$Q,16,FALSE)","v":6776},{"$f":"VLOOKUP($B52,[1]Sheet1!$A:$Q,17,FALSE)","v":6776},10024765,"ZJ-03-019","是",{"$f":"VLOOKUP(G52,[2]总台账!$E:$Q,13,0)","v":"2011-03-31"},14,"抗生素瓶轧盖机","3楼肿瘤"]
[52,1100771,343346.45,{"$f":"VLOOKUP(B53,[1]Sheet1!$A:$Q,16,FALSE)","v":17167},{"$f":"VLOOKUP($B53,[1]Sheet1!$A:$Q,17,FALSE)","v":17167},10024772,"ZJ-03-014","是",{"$f":"VLOOKUP(G53,[2]总台账!$E:$Q,13,0)","v":"2011-03-31"},14,"胶塞清洗机","3楼肿瘤"]
[53,1100768,274074.8,{"$f":"VLOOKUP(B54,[1]Sheet1!$A:$Q,16,FALSE)","v":13703},{"$f":"VLOOKUP($B54,[1]Sheet1!$A:$Q,17,FALSE)","v":13703},10024775,"ZJ-03-015","是",{"$f":"VLOOKUP(G54,[2]总台账!$E:$Q,13,0)","v":"2011-03-31"},14,"铝盖清洗机","3楼肿瘤"]
[54,1100687,66666.67,{"$f":"VLOOKUP(B55,[1]Sheet1!$A:$Q,16,FALSE)","v":3333},{"$f":"VLOOKUP($B55,[1]Sheet1!$A:$Q,17,FALSE)","v":3333},10024841,"ZJ-03-845","是",{"$f":"VLOOKUP(G55,[2]总台账!$E:$Q,13,0)","v":"2011-12-28"},14,"隔离器","3楼肿瘤"]
[55,1100693,547008.54,{"$f":"VLOOKUP(B56,[1]Sheet1!$A:$Q,16,FALSE)","v":27350},{"$f":"VLOOKUP($B56,[1]Sheet1!$A:$Q,17,FALSE)","v":27350},10024880,"ZJ-01-102","是",{"$f":"VLOOKUP(G56,[2]总台账!$E:$Q,13,0)","v":"2012-03-21"},13,"半自动进出料小车系统（orabs系统）","3楼肿瘤"]
[56,1100724,72000,{"$f":"VLOOKUP(B57,[1]Sheet1!$A:$Q,16,FALSE)","v":3600},{"$f":"VLOOKUP($B57,[1]Sheet1!$A:$Q,17,FALSE)","v":3600},10024901,"ZJ-03-846","是",{"$f":"VLOOKUP(G57,[2]总台账!$E:$Q,13,0)","v":"2013-03-19"},13,"不锈钢隔离器","3楼肿瘤"]
[57,1101151,7948.72,{"$f":"VLOOKUP(B58,[1]Sheet1!$A:$Q,16,FALSE)","v":397.4},{"$f":"VLOOKUP($B58,[1]Sheet1!$A:$Q,17,FALSE)","v":397.4},10025074,"ZJ-03-082","是",{"$f":"VLOOKUP(G58,[2]总台账!$E:$Q,13,0)","v":"2007-10-31"},16,"移动百级层流车","3楼肿瘤"]
[58,1101005,837.61,{"$f":"VLOOKUP(B59,[1]Sheet1!$A:$Q,16,FALSE)","v":41.88},{"$f":"VLOOKUP($B59,[1]Sheet1!$A:$Q,17,FALSE)","v":41.88},null,"ST-01-018","是",{"$f":"VLOOKUP(G59,[2]总台账!$E:$Q,13,0)","v":"2009-12-01"},15,"面食发酵箱","报废库"]
[59,1100328,75213.68,3760,3760,10025434,"YY-01-198","是",{"$f":"VLOOKUP(G60,[2]总台账!$E:$Q,13,0)","v":"2013-09-25"},11,"多路温度验证仪","报废库"]
[60,1100675,3500,175,175,null,"ST-01-038","是",{"$f":"VLOOKUP(G61,[2]总台账!$E:$Q,13,0)","v":"2011-12-28"},13,"和面机","报废库"]
[61,1101506,2.14,2.14,0,10040150,"KY-07-02-010(G)","是",{"$f":"VLOOKUP(G62,[2]总台账!$E:$Q,13,0)","v":"2022-01-28"},"研究院转来的设备已过使用年限，此时间是生物购买后计时日期。","电子天平3Kg","报废库"]
[62,1101154,27350.43,1367,1367,10024555,"ZJ-02-072","是",{"$f":"VLOOKUP(G63,[2]总台账!$E:$Q,13,0)","v":"2007-08-23"},17,"完整性测试仪","报废库"]
[63,{"$nulls":4},10038347,"ZJ-02-069","否",{"$f":"VLOOKUP(G64,[2]总台账!$E:$Q,13,0)","v":"2011-12-23"},13,"喷码机","报废库"]
[64,{"$nulls":4},10026776,"YL-02-106","否",null,10,"大功率恒温磁力加热搅拌器","报废库"]
[65,1100030,3500,175,175,10024892,"YL-02-188","是",{"$f":"VLOOKUP(G66,[2]总台账!$E:$Q,13,0)","v":"2001-12-26"},13,"晶体过滤器","报废库"]
[66,1100029,3500,175,175,10024893,"YL-02-189","是",{"$f":"VLOOKUP(G67,[2]总台账!$E:$Q,13,0)","v":"2001-12-26"},13,"晶体过滤器","报废库"]
[67,1100024,3500,175,175,10024894,"YL-02-190","是",{"$f":"VLOOKUP(G68,[2]总台账!$E:$Q,13,0)","v":"2001-12-26"},13,"晶体过滤器","报废库"]
[68,1101184,5200,260,260,10024528,"YL-02-191","是",{"$f":"VLOOKUP(G69,[2]总台账!$E:$Q,13,0)","v":"2005-01-31"},10,"晶体过滤器","报废库"]
[69,1100530,1752.14,87.61,87.61,10025416,"YL-02-196","是",{"$f":"VLOOKUP(G70,[2]总台账!$E:$Q,13,0)","v":"2013-12-17"},11,"集热式恒温磁力搅拌器","报废库"]
[70,1100694,5993,299.6,299.6,10024521,"YL-02-021","是",{"$f":"VLOOKUP(G71,[2]总台账!$E:$Q,13,0)","v":"2004-12-16"},20,"电子天平3Kg","报废库"]
[71,1101207,2980,149,149,10024542,"YL-02-027","是",{"$f":"VLOOKUP(G72,[2]总台账!$E:$Q,13,0)","v":"2006-01-25"},19,"PH计","报废库"]
[72,1100247,402980.31,20149,20149,10025186,"DL-01-029","是",{"$f":"VLOOKUP(G73,[2]总台账!$E:$Q,13,0)","v":"2010-06-29"},14,"满液式水冷冷水机组","动力车间"]
[73,1100810,8538.46,426.9,426.9,10025016,"YY-01-074","是",{"$f":"VLOOKUP(G74,[2]总台账!$E:$Q,13,0)","v":"2011-03-30"},14,"UPS电源","报废库"]
[74,1100787,117460.64,5873,5873,10024758,"ZJ-03-017","是","2011-03-31",14,"百级灭菌箱1.1-1.2","3楼肿瘤"]
["合计",null,{"$f":"SUM(C2:C75)","v":5966058.62},null,{"$f":"SUM(E2:E75)","v":298194.55}]
[]
[null,null,5966058.62,null,298194.55]

{"sheet":"Sheet2","index":1,"n_rows":0,"n_cols":0,"rows_kept":0}

{"sheet":"Sheet3","index":2,"n_rows":0,"n_cols":0,"rows_kept":0}